BEGIN:VCALENDAR
VERSION:2.0
PRODID:-//Tukios.com/
BEGIN:VEVENT
UID:9bcd5e8b-01de-4b62-8640-f9946dc559b7@www.laubenthalmercado.com
DTSTAMP:20260421T215301Z
DTSTART:20260425T180000Z
DTEND:20260425T220000Z
SUMMARY:Memorial Gathering
DESCRIPTION:
URL:https://www.laubenthalmercado.com/obituaries/thomas-shumaker
LOCATION:D.F.I. Machine 6577 Lake Avenue  Elyria OH 44035
GEO:41.4069877;-82.1347194
END:VEVENT
END:VCALENDAR