BEGIN:VCALENDAR
VERSION:2.0
PRODID:-//Tukios.com/
BEGIN:VEVENT
UID:cc263ae6-cd8e-4212-9089-05cc9606e1a2@www.laubenthalmercado.com
DTSTAMP:20260420T211219Z
DTSTART:20260423T160000Z
DTEND:20260423T170000Z
SUMMARY:Funeral Service
DESCRIPTION:
URL:https://www.laubenthalmercado.com/obituaries/robert-spaulding
LOCATION: 38475 Chestnut Ridge Rd  Elyria OH 44035
GEO:41.3422889;-82.0685974
END:VEVENT
END:VCALENDAR