BEGIN:VCALENDAR
VERSION:2.0
PRODID:-//Tukios.com/
BEGIN:VEVENT
UID:b1dca83e-9391-4f09-a7c3-6c3063dee0c4@www.laubenthalmercado.com
DTSTAMP:20260420T211213Z
DTSTART:20260422T200000Z
DTEND:20260422T230000Z
SUMMARY:Visitation
DESCRIPTION:
URL:https://www.laubenthalmercado.com/obituaries/robert-spaulding
LOCATION: 38475 Chestnut Ridge Rd  Elyria OH 44035
GEO:41.3422889;-82.0685974
END:VEVENT
END:VCALENDAR