BEGIN:VCALENDAR
VERSION:2.0
PRODID:-//Tukios.com/
BEGIN:VEVENT
UID:3c465ee8-c94f-45bc-9fc1-7e75ebaafbfa@www.laubenthalmercado.com
DTSTAMP:20260423T181325Z
DTSTART:20260426T180000Z
DTEND:20260426T210000Z
SUMMARY:Visitation
DESCRIPTION:
URL:https://www.laubenthalmercado.com/obituaries/arthur-gula
LOCATION: 38475 Chestnut Ridge Rd  Elyria OH 44035
GEO:41.3422889;-82.0685974
END:VEVENT
END:VCALENDAR